BEGIN:VCALENDAR
VERSION:2.0
PRODID:-//Tennessee Wesleyan University - ECPv6.15.20//NONSGML v1.0//EN
CALSCALE:GREGORIAN
METHOD:PUBLISH
X-WR-CALNAME:Tennessee Wesleyan University
X-ORIGINAL-URL:https://www.tnwesleyan.edu
X-WR-CALDESC:Events for Tennessee Wesleyan University
REFRESH-INTERVAL;VALUE=DURATION:PT1H
X-Robots-Tag:noindex
X-PUBLISHED-TTL:PT1H
BEGIN:VTIMEZONE
TZID:America/New_York
BEGIN:DAYLIGHT
TZOFFSETFROM:-0500
TZOFFSETTO:-0400
TZNAME:EDT
DTSTART:20250309T070000
END:DAYLIGHT
BEGIN:STANDARD
TZOFFSETFROM:-0400
TZOFFSETTO:-0500
TZNAME:EST
DTSTART:20251102T060000
END:STANDARD
BEGIN:DAYLIGHT
TZOFFSETFROM:-0500
TZOFFSETTO:-0400
TZNAME:EDT
DTSTART:20260308T070000
END:DAYLIGHT
BEGIN:STANDARD
TZOFFSETFROM:-0400
TZOFFSETTO:-0500
TZNAME:EST
DTSTART:20261101T060000
END:STANDARD
BEGIN:DAYLIGHT
TZOFFSETFROM:-0500
TZOFFSETTO:-0400
TZNAME:EDT
DTSTART:20270314T070000
END:DAYLIGHT
BEGIN:STANDARD
TZOFFSETFROM:-0400
TZOFFSETTO:-0500
TZNAME:EST
DTSTART:20271107T060000
END:STANDARD
END:VTIMEZONE
BEGIN:VEVENT
DTSTART;VALUE=DATE:20260302
DTEND;VALUE=DATE:20260307
DTSTAMP:20260420T124924
CREATED:20251001T190624Z
LAST-MODIFIED:20251001T190624Z
UID:20258-1772409600-1772841599@www.tnwesleyan.edu
SUMMARY:Spring Break
DESCRIPTION:Offices closed March 5th – 6th
URL:https://www.tnwesleyan.edu/event/spring-break-2/
END:VEVENT
BEGIN:VEVENT
DTSTART;TZID=America/New_York:20260320T133000
DTEND;TZID=America/New_York:20260320T160000
DTSTAMP:20260420T124924
CREATED:20241216T042405Z
LAST-MODIFIED:20241216T042405Z
UID:14363-1774013400-1774022400@www.tnwesleyan.edu
SUMMARY:Board of Trustees Executive Committee Meeting
DESCRIPTION:
URL:https://www.tnwesleyan.edu/event/board-of-trustees-executive-committee-meeting-6/
LOCATION:Colloms Campus Center
CATEGORIES:Campus Events
END:VEVENT
BEGIN:VEVENT
DTSTART;TZID=America/New_York:20260327T190000
DTEND;TZID=America/New_York:20260327T220000
DTSTAMP:20260420T124924
CREATED:20260326T203214Z
LAST-MODIFIED:20260326T203214Z
UID:26311-1774638000-1774648800@www.tnwesleyan.edu
SUMMARY:Spring 2026 Musical - Fiddler on the Roof
DESCRIPTION:On behalf of the Tennessee Wesleyan University Theatre and Fine Arts Department\, you are invited to their musical production for the Spring of 2026\, Fiddler on the Roof.\nPerformances will take place in Townsend Auditorium on the Tennessee Wesleyan Campus. Showtimes are as follows:\n• Friday\, March 27th and Saturday\, March 28th at 7:00 p.m.\n• Sunday\, March 29th at 2:30 p.m.\nAdmission to the show is free\, with donations gratefully accepted to support the TWU Theatre Program. This production features a talented cast drawn from the Tennessee Wesleyan\ncommunity\, including students\, faculty members\, and local performers. Fiddler on the Roof tells the story of Tevye\, a poor Jewish milkman in a small Russian\nvillage\, as he struggles to maintain his traditions while his daughters challenge them by choosing their own husbands. Set against rising social and political unrest\, the story\nexplores family\, faith\, tradition\, and change as their way of life is threatened. You don’t want to miss this heartwarming and timeless story about tradition brought\nto life on stage by a talented\, passionate cast
URL:https://www.tnwesleyan.edu/event/spring-2026-musical-fiddler-on-the-roof/
END:VEVENT
BEGIN:VEVENT
DTSTART;TZID=America/New_York:20260328T190000
DTEND;TZID=America/New_York:20260328T220000
DTSTAMP:20260420T124924
CREATED:20260326T203411Z
LAST-MODIFIED:20260326T203411Z
UID:26313-1774724400-1774735200@www.tnwesleyan.edu
SUMMARY:Spring 2026 Musical - Fiddler on the Roof
DESCRIPTION:On behalf of the Tennessee Wesleyan University Theatre and Fine Arts Department\, you are invited to their musical production for the Spring of 2026\, Fiddler on the Roof.\nPerformances will take place in Townsend Auditorium on the Tennessee Wesleyan Campus. Showtimes are as follows:\n• Friday\, March 27th and Saturday\, March 28th at 7:00 p.m.\n• Sunday\, March 29th at 2:30 p.m.\nAdmission to the show is free\, with donations gratefully accepted to support the TWU Theatre Program. This production features a talented cast drawn from the Tennessee Wesleyan\ncommunity\, including students\, faculty members\, and local performers. Fiddler on the Roof tells the story of Tevye\, a poor Jewish milkman in a small Russian\nvillage\, as he struggles to maintain his traditions while his daughters challenge them by choosing their own husbands. Set against rising social and political unrest\, the story\nexplores family\, faith\, tradition\, and change as their way of life is threatened. You don’t want to miss this heartwarming and timeless story about tradition brought\nto life on stage by a talented\, passionate cast
URL:https://www.tnwesleyan.edu/event/spring-2026-musical-fiddler-on-the-roof-2/
END:VEVENT
BEGIN:VEVENT
DTSTART;TZID=America/New_York:20260329T143000
DTEND;TZID=America/New_York:20260329T170000
DTSTAMP:20260420T124924
CREATED:20260326T203519Z
LAST-MODIFIED:20260326T203519Z
UID:26315-1774794600-1774803600@www.tnwesleyan.edu
SUMMARY:Spring 2026 - Fiddler on the Roof
DESCRIPTION:On behalf of the Tennessee Wesleyan University Theatre and Fine Arts Department\, you are invited to their musical production for the Spring of 2026\, Fiddler on the Roof.\nPerformances will take place in Townsend Auditorium on the Tennessee Wesleyan Campus. Showtimes are as follows:\n• Friday\, March 27th and Saturday\, March 28th at 7:00 p.m.\n• Sunday\, March 29th at 2:30 p.m.\nAdmission to the show is free\, with donations gratefully accepted to support the TWU Theatre Program. This production features a talented cast drawn from the Tennessee Wesleyan\ncommunity\, including students\, faculty members\, and local performers. Fiddler on the Roof tells the story of Tevye\, a poor Jewish milkman in a small Russian\nvillage\, as he struggles to maintain his traditions while his daughters challenge them by choosing their own husbands. Set against rising social and political unrest\, the story\nexplores family\, faith\, tradition\, and change as their way of life is threatened. You don’t want to miss this heartwarming and timeless story about tradition brought\nto life on stage by a talented\, passionate cast
URL:https://www.tnwesleyan.edu/event/spring-2026-fiddler-on-the-roof/
END:VEVENT
END:VCALENDAR