BEGIN:VCALENDAR
VERSION:2.0
PRODID:-//Tennessee Wesleyan University - ECPv6.15.20//NONSGML v1.0//EN
CALSCALE:GREGORIAN
METHOD:PUBLISH
X-ORIGINAL-URL:https://www.tnwesleyan.edu
X-WR-CALDESC:Events for Tennessee Wesleyan University
REFRESH-INTERVAL;VALUE=DURATION:PT1H
X-Robots-Tag:noindex
X-PUBLISHED-TTL:PT1H
BEGIN:VTIMEZONE
TZID:UTC
BEGIN:STANDARD
TZOFFSETFROM:+0000
TZOFFSETTO:+0000
TZNAME:UTC
DTSTART:20230101T000000
END:STANDARD
END:VTIMEZONE
BEGIN:VEVENT
DTSTART;TZID=UTC:20240516T180000
DTEND;TZID=UTC:20240516T180000
DTSTAMP:20260421T123711
CREATED:20240516T044039Z
LAST-MODIFIED:20240516T044206Z
UID:12461-1715882400-1715882400@www.tnwesleyan.edu
SUMMARY:(Women's Tennis) Tennessee Wesleyan vs. Lindsey Wilson
DESCRIPTION:Women’s Tennis: (Women’s Tennis) Tennessee Wesleyan vs. Lindsey Wilson\, 2024 NAIA Women’s Tennis National Championship Quarterfinals
URL:https://www.tnwesleyan.edu/event/womens-tennis-tennessee-wesleyan-vs-lindsey-wilson/
LOCATION:Mobile\, Ala.
CATEGORIES:Women's Tennis
END:VEVENT
BEGIN:VEVENT
DTSTART;TZID=UTC:20240515T180000
DTEND;TZID=UTC:20240515T180000
DTSTAMP:20260421T123711
CREATED:20240505T014033Z
LAST-MODIFIED:20240515T044104Z
UID:12091-1715796000-1715796000@www.tnwesleyan.edu
SUMMARY:(Women's Tennis) LSU Alexandria vs. Tennessee Wesleyan
DESCRIPTION:Women’s Tennis: (Women’s Tennis) LSU Alexandria vs. Tennessee Wesleyan\, 2024 NAIA Women’s Tennis National Championship Second Round
URL:https://www.tnwesleyan.edu/event/womens-tennis-tba-vs-tennessee-wesleyan/
LOCATION:Mobile\, Ala.
CATEGORIES:Women's Tennis
END:VEVENT
BEGIN:VEVENT
DTSTART;TZID=UTC:20240413T140000
DTEND;TZID=UTC:20240413T140000
DTSTAMP:20260421T123711
CREATED:20240412T232550Z
LAST-MODIFIED:20240412T232646Z
UID:11139-1713016800-1713016800@www.tnwesleyan.edu
SUMMARY:(Women's Tennis) Union (KY) vs. Tennessee Wesleyan
DESCRIPTION:Women’s Tennis: (Women’s Tennis) Union (KY) vs. Tennessee Wesleyan\, AAC Tournament – Championship Game
URL:https://www.tnwesleyan.edu/event/womens-tennis-union-ky-vs-tennessee-wesleyan-2/
LOCATION:Chattanooga\, Tenn.
CATEGORIES:Women's Tennis
END:VEVENT
BEGIN:VEVENT
DTSTART;TZID=UTC:20240403T170000
DTEND;TZID=UTC:20240403T170000
DTSTAMP:20260421T123711
CREATED:20240223T145955Z
LAST-MODIFIED:20240402T220615Z
UID:8975-1712163600-1712163600@www.tnwesleyan.edu
SUMMARY:(Women's Tennis) Reinhardt (GA) vs. Tennessee Wesleyan
DESCRIPTION:Women’s Tennis: (Women’s Tennis) Reinhardt (GA) vs. Tennessee Wesleyan\, Senior Day
URL:https://www.tnwesleyan.edu/event/womens-tennis-reinhardt-ga-vs-tennessee-wesleyan/
CATEGORIES:Women's Tennis
END:VEVENT
BEGIN:VEVENT
DTSTART;VALUE=DATE:20240329
DTEND;VALUE=DATE:20240330
DTSTAMP:20260421T123711
CREATED:20240223T145955Z
LAST-MODIFIED:20240328T211048Z
UID:8974-1711670400-1711756799@www.tnwesleyan.edu
SUMMARY:(Women's Tennis) Tennessee Wesleyan at SCAD Atlanta
DESCRIPTION:Women’s Tennis: (Women’s Tennis) Tennessee Wesleyan at SCAD Atlanta\, Atlanta\, Ga.
URL:https://www.tnwesleyan.edu/event/womens-tennis-tennessee-wesleyan-at-scad-atlanta/
CATEGORIES:Women's Tennis
END:VEVENT
BEGIN:VEVENT
DTSTART;TZID=UTC:20240328T170000
DTEND;TZID=UTC:20240328T170000
DTSTAMP:20260421T123711
CREATED:20240223T145955Z
LAST-MODIFIED:20240327T205311Z
UID:8973-1711645200-1711645200@www.tnwesleyan.edu
SUMMARY:(Women's Tennis) University of Montevallo vs. Tennessee Wesleyan
DESCRIPTION:Women’s Tennis: (Women’s Tennis) University of Montevallo vs. Tennessee Wesleyan\, Athens\, Tenn.
URL:https://www.tnwesleyan.edu/event/womens-tennis-university-of-montevallo-vs-tennessee-wesleyan/
CATEGORIES:Women's Tennis
END:VEVENT
BEGIN:VEVENT
DTSTART;TZID=UTC:20240327T180000
DTEND;TZID=UTC:20240327T180000
DTSTAMP:20260421T123711
CREATED:20240223T145949Z
LAST-MODIFIED:20240326T203754Z
UID:8962-1711562400-1711562400@www.tnwesleyan.edu
SUMMARY:(Women's Tennis) Union (KY) vs. Tennessee Wesleyan
DESCRIPTION:Women’s Tennis: (Women’s Tennis) Union (KY) vs. Tennessee Wesleyan
URL:https://www.tnwesleyan.edu/event/womens-tennis-union-ky-vs-tennessee-wesleyan/
CATEGORIES:Women's Tennis
END:VEVENT
BEGIN:VEVENT
DTSTART;TZID=UTC:20240322T170000
DTEND;TZID=UTC:20240322T170000
DTSTAMP:20260421T123711
CREATED:20240223T145949Z
LAST-MODIFIED:20240314T190938Z
UID:8961-1711126800-1711126800@www.tnwesleyan.edu
SUMMARY:(Women's Tennis) Montreat (NC) vs. Tennessee Wesleyan
DESCRIPTION:Women’s Tennis: (Women’s Tennis) Montreat (NC) vs. Tennessee Wesleyan\, Athens\, Tenn.
URL:https://www.tnwesleyan.edu/event/womens-tennis-montreat-nc-vs-tennessee-wesleyan/
CATEGORIES:Women's Tennis
END:VEVENT
BEGIN:VEVENT
DTSTART;TZID=UTC:20240321T190000
DTEND;TZID=UTC:20240321T190000
DTSTAMP:20260421T123711
CREATED:20240223T145948Z
LAST-MODIFIED:20240320T193437Z
UID:8955-1711047600-1711047600@www.tnwesleyan.edu
SUMMARY:(Women's Tennis) Tennessee Wesleyan at Pikeville (	KY)
DESCRIPTION:Women’s Tennis: (Women’s Tennis) Tennessee Wesleyan at Pikeville (	KY)\, Pikeville\, Ky.
URL:https://www.tnwesleyan.edu/event/womens-tennis-tennessee-wesleyan-at-pikeville-ky/
CATEGORIES:Women's Tennis
END:VEVENT
BEGIN:VEVENT
DTSTART;TZID=UTC:20240315T170000
DTEND;TZID=UTC:20240315T170000
DTSTAMP:20260421T123711
CREATED:20240223T145949Z
LAST-MODIFIED:20240314T190938Z
UID:8960-1710522000-1710522000@www.tnwesleyan.edu
SUMMARY:(Women's Tennis) Belmont Abbey University vs. Tennessee Wesleyan
DESCRIPTION:Women’s Tennis: (Women’s Tennis) Belmont Abbey University vs. Tennessee Wesleyan\, Match Being Played at Champions Club
URL:https://www.tnwesleyan.edu/event/womens-tennis-belmont-abbey-university-vs-tennessee-wesleyan/
LOCATION:Chattanooga\, Tenn.
CATEGORIES:Women's Tennis
END:VEVENT
BEGIN:VEVENT
DTSTART;TZID=UTC:20240313T170000
DTEND;TZID=UTC:20240313T170000
DTSTAMP:20260421T123711
CREATED:20240223T145949Z
LAST-MODIFIED:20240312T184825Z
UID:8959-1710349200-1710349200@www.tnwesleyan.edu
SUMMARY:(Women's Tennis) Drury University vs. Tennessee Wesleyan
DESCRIPTION:Women’s Tennis: (Women’s Tennis) Drury University vs. Tennessee Wesleyan\, Match Being Played at Champions Club
URL:https://www.tnwesleyan.edu/event/womens-tennis-drury-university-vs-tennessee-wesleyan/
LOCATION:Chattanooga\, Tenn.
CATEGORIES:Women's Tennis
END:VEVENT
BEGIN:VEVENT
DTSTART;TZID=UTC:20240310T183000
DTEND;TZID=UTC:20240310T183000
DTSTAMP:20260421T123711
CREATED:20240223T145949Z
LAST-MODIFIED:20240310T181920Z
UID:8958-1710095400-1710095400@www.tnwesleyan.edu
SUMMARY:(Women's Tennis) Columbus State vs. Tennessee Wesleyan
DESCRIPTION:Women’s Tennis: (Women’s Tennis) Columbus State vs. Tennessee Wesleyan\, Match Being Played at Champions Club
URL:https://www.tnwesleyan.edu/event/womens-tennis-columbus-state-vs-tennessee-wesleyan/
LOCATION:Chattanooga\, Tenn.
CATEGORIES:Women's Tennis
END:VEVENT
BEGIN:VEVENT
DTSTART;TZID=UTC:20240309T190000
DTEND;TZID=UTC:20240309T190000
DTSTAMP:20260421T123711
CREATED:20240223T145948Z
LAST-MODIFIED:20240309T182032Z
UID:8957-1710010800-1710010800@www.tnwesleyan.edu
SUMMARY:(Women's Tennis) University of North Georgia vs. Tennessee Wesleyan
DESCRIPTION:Women’s Tennis: (Women’s Tennis) University of North Georgia vs. Tennessee Wesleyan\, Match Being Played at Champions Club
URL:https://www.tnwesleyan.edu/event/womens-tennis-university-of-north-georgia-vs-tennessee-wesleyan/
LOCATION:Chattanooga\, Tenn.
CATEGORIES:Women's Tennis
END:VEVENT
BEGIN:VEVENT
DTSTART;TZID=UTC:20240303T190000
DTEND;TZID=UTC:20240303T190000
DTSTAMP:20260421T123711
CREATED:20240223T145948Z
LAST-MODIFIED:20240303T180251Z
UID:8956-1709492400-1709492400@www.tnwesleyan.edu
SUMMARY:(Women's Tennis) Truett-McConnell vs. Tennessee Wesleyan
DESCRIPTION:Women’s Tennis: (Women’s Tennis) Truett-McConnell vs. Tennessee Wesleyan\, Athens\, Tenn.
URL:https://www.tnwesleyan.edu/event/womens-tennis-truett-mcconnell-vs-tennessee-wesleyan/
CATEGORIES:Women's Tennis
END:VEVENT
BEGIN:VEVENT
DTSTART;TZID=UTC:20240228T180000
DTEND;TZID=UTC:20240228T180000
DTSTAMP:20260421T123711
CREATED:20240223T145948Z
LAST-MODIFIED:20240223T145955Z
UID:8954-1709143200-1709143200@www.tnwesleyan.edu
SUMMARY:(Women's Tennis) Bluefield (VA) vs. Tennessee Wesleyan
DESCRIPTION:Women’s Tennis: (Women’s Tennis) Bluefield (VA) vs. Tennessee Wesleyan\, Athens\, Tenn.
URL:https://www.tnwesleyan.edu/event/womens-tennis-bluefield-va-vs-tennessee-wesleyan/
CATEGORIES:Women's Tennis
END:VEVENT
BEGIN:VEVENT
DTSTART;TZID=UTC:20240224T200000
DTEND;TZID=UTC:20240224T200000
DTSTAMP:20260421T123711
CREATED:20240223T145948Z
LAST-MODIFIED:20240224T160301Z
UID:8953-1708804800-1708804800@www.tnwesleyan.edu
SUMMARY:(Women's Tennis) Tennessee Wesleyan at University of Tennessee Chattanooga
DESCRIPTION:Women’s Tennis: (Women’s Tennis) Tennessee Wesleyan at University of Tennessee Chattanooga\, Chattanooga\, Tenn.
URL:https://www.tnwesleyan.edu/event/womens-tennis-tennessee-wesleyan-at-university-of-tennessee-chattanooga/
CATEGORIES:Women's Tennis
END:VEVENT
END:VCALENDAR