BEGIN:VCALENDAR
VERSION:2.0
PRODID:-//Tennessee Wesleyan University - ECPv6.15.20//NONSGML v1.0//EN
CALSCALE:GREGORIAN
METHOD:PUBLISH
X-ORIGINAL-URL:https://www.tnwesleyan.edu
X-WR-CALDESC:Events for Tennessee Wesleyan University
REFRESH-INTERVAL;VALUE=DURATION:PT1H
X-Robots-Tag:noindex
X-PUBLISHED-TTL:PT1H
BEGIN:VTIMEZONE
TZID:UTC
BEGIN:STANDARD
TZOFFSETFROM:+0000
TZOFFSETTO:+0000
TZNAME:UTC
DTSTART:20230101T000000
END:STANDARD
END:VTIMEZONE
BEGIN:VEVENT
DTSTART;TZID=UTC:20240418T160000
DTEND;TZID=UTC:20240418T160000
DTSTAMP:20260421T193847
CREATED:20240417T011050Z
LAST-MODIFIED:20240418T012953Z
UID:11280-1713456000-1713456000@www.tnwesleyan.edu
SUMMARY:(Women's Lacrosse) Tennessee Wesleyan vs. Georgetown
DESCRIPTION:Women’s Lacrosse: (Women’s Lacrosse) Tennessee Wesleyan vs. Georgetown
URL:https://www.tnwesleyan.edu/event/womens-lacrosse-tennessee-wesleyan-vs-georgetown/
LOCATION:AAC Tournament – Williamsburg\, KY
CATEGORIES:Women's Lacrosse
END:VEVENT
BEGIN:VEVENT
DTSTART;TZID=UTC:20240413T170000
DTEND;TZID=UTC:20240413T170000
DTSTAMP:20260421T193847
CREATED:20240223T145709Z
LAST-MODIFIED:20240413T004403Z
UID:8886-1713027600-1713027600@www.tnwesleyan.edu
SUMMARY:(Women's Lacrosse) Tennessee Wesleyan at Truett-McConnell
DESCRIPTION:Women’s Lacrosse: (Women’s Lacrosse) Tennessee Wesleyan at Truett-McConnell
URL:https://www.tnwesleyan.edu/event/womens-lacrosse-tennessee-wesleyan-at-truett-mcconnell/
CATEGORIES:Women's Lacrosse
END:VEVENT
BEGIN:VEVENT
DTSTART;TZID=UTC:20240403T230000
DTEND;TZID=UTC:20240403T230000
DTSTAMP:20260421T193847
CREATED:20240223T145709Z
LAST-MODIFIED:20240403T225423Z
UID:8884-1712185200-1712185200@www.tnwesleyan.edu
SUMMARY:(Women's Lacrosse) Tennessee Wesleyan at Cumberlands (KY)
DESCRIPTION:Women’s Lacrosse: (Women’s Lacrosse) Tennessee Wesleyan at Cumberlands (KY)\, Williamsburg\, Ky.
URL:https://www.tnwesleyan.edu/event/womens-lacrosse-tennessee-wesleyan-at-cumberlands-ky/
CATEGORIES:Women's Lacrosse
END:VEVENT
BEGIN:VEVENT
DTSTART;TZID=UTC:20240330T160000
DTEND;TZID=UTC:20240330T160000
DTSTAMP:20260421T193847
CREATED:20240223T145709Z
LAST-MODIFIED:20240329T211342Z
UID:8882-1711814400-1711814400@www.tnwesleyan.edu
SUMMARY:(Women's Lacrosse) Reinhardt (GA) vs. Tennessee Wesleyan
DESCRIPTION:Women’s Lacrosse: (Women’s Lacrosse) Reinhardt (GA) vs. Tennessee Wesleyan\, Athens\, Tenn.
URL:https://www.tnwesleyan.edu/event/womens-lacrosse-reinhardt-ga-vs-tennessee-wesleyan/
CATEGORIES:Women's Lacrosse
END:VEVENT
BEGIN:VEVENT
DTSTART;TZID=UTC:20240327T160000
DTEND;TZID=UTC:20240327T160000
DTSTAMP:20260421T193847
CREATED:20240223T145656Z
LAST-MODIFIED:20240326T202427Z
UID:8880-1711555200-1711555200@www.tnwesleyan.edu
SUMMARY:(Women's Lacrosse) Eastern Oregon vs. Tennessee Wesleyan
DESCRIPTION:Women’s Lacrosse: (Women’s Lacrosse) Eastern Oregon vs. Tennessee Wesleyan\, Athens\, Tenn.
URL:https://www.tnwesleyan.edu/event/womens-lacrosse-eastern-oregon-vs-tennessee-wesleyan/
CATEGORIES:Women's Lacrosse
END:VEVENT
BEGIN:VEVENT
DTSTART;TZID=UTC:20240323T150000
DTEND;TZID=UTC:20240323T150000
DTSTAMP:20260421T193847
CREATED:20240223T145656Z
LAST-MODIFIED:20240321T193711Z
UID:8879-1711206000-1711206000@www.tnwesleyan.edu
SUMMARY:(Women's Lacrosse) Tennessee Wesleyan at St. Andrews (NC)
DESCRIPTION:Women’s Lacrosse: (Women’s Lacrosse) Tennessee Wesleyan at St. Andrews (NC)
URL:https://www.tnwesleyan.edu/event/womens-lacrosse-tennessee-wesleyan-at-st-andrews-nc/
CATEGORIES:Women's Lacrosse
END:VEVENT
BEGIN:VEVENT
DTSTART;TZID=UTC:20240318T133000
DTEND;TZID=UTC:20240318T133000
DTSTAMP:20260421T193847
CREATED:20240223T145656Z
LAST-MODIFIED:20240317T191952Z
UID:8878-1710768600-1710768600@www.tnwesleyan.edu
SUMMARY:(Women's Lacrosse) St. Thomas (FL) vs. Tennessee Wesleyan
DESCRIPTION:Women’s Lacrosse: (Women’s Lacrosse) St. Thomas (FL) vs. Tennessee Wesleyan\, Athens\, Tenn.
URL:https://www.tnwesleyan.edu/event/womens-lacrosse-st-thomas-fl-vs-tennessee-wesleyan/
CATEGORIES:Women's Lacrosse
END:VEVENT
BEGIN:VEVENT
DTSTART;TZID=UTC:20240314T160000
DTEND;TZID=UTC:20240314T160000
DTSTAMP:20260421T193847
CREATED:20240223T145656Z
LAST-MODIFIED:20240313T190457Z
UID:8877-1710432000-1710432000@www.tnwesleyan.edu
SUMMARY:(Women's Lacrosse) Missouri Baptist vs. Tennessee Wesleyan
DESCRIPTION:Women’s Lacrosse: (Women’s Lacrosse) Missouri Baptist vs. Tennessee Wesleyan\, Athens\, Tenn.
URL:https://www.tnwesleyan.edu/event/womens-lacrosse-missouri-baptist-vs-tennessee-wesleyan/
CATEGORIES:Women's Lacrosse
END:VEVENT
BEGIN:VEVENT
DTSTART;TZID=UTC:20240309T180000
DTEND;TZID=UTC:20240309T180000
DTSTAMP:20260421T193847
CREATED:20240223T145656Z
LAST-MODIFIED:20240308T181818Z
UID:8876-1710007200-1710007200@www.tnwesleyan.edu
SUMMARY:(Women's Lacrosse) Tennessee Wesleyan at Montreat (NC)
DESCRIPTION:Women’s Lacrosse: (Women’s Lacrosse) Tennessee Wesleyan at Montreat (NC)\, Black Mountain\, N.C.
URL:https://www.tnwesleyan.edu/event/womens-lacrosse-tennessee-wesleyan-at-montreat-nc/
CATEGORIES:Women's Lacrosse
END:VEVENT
BEGIN:VEVENT
DTSTART;TZID=UTC:20240306T220000
DTEND;TZID=UTC:20240306T220000
DTSTAMP:20260421T193847
CREATED:20240223T145656Z
LAST-MODIFIED:20240306T181800Z
UID:8875-1709762400-1709762400@www.tnwesleyan.edu
SUMMARY:(Women's Lacrosse) Tennessee Wesleyan at Georgetown
DESCRIPTION:Women’s Lacrosse: (Women’s Lacrosse) Tennessee Wesleyan at Georgetown\, Toyota Stadium – Georgetown\, KY
URL:https://www.tnwesleyan.edu/event/womens-lacrosse-tennessee-wesleyan-at-georgetown/
CATEGORIES:Women's Lacrosse
END:VEVENT
BEGIN:VEVENT
DTSTART;TZID=UTC:20240302T203000
DTEND;TZID=UTC:20240302T203000
DTSTAMP:20260421T193847
CREATED:20240223T145656Z
LAST-MODIFIED:20240302T180340Z
UID:8874-1709411400-1709411400@www.tnwesleyan.edu
SUMMARY:(Women's Lacrosse) Tennessee Wesleyan at Warner (FL)
DESCRIPTION:Women’s Lacrosse: (Women’s Lacrosse) Tennessee Wesleyan at Warner (FL)\, Start of 3rd
URL:https://www.tnwesleyan.edu/event/womens-lacrosse-tennessee-wesleyan-at-warner-fl/
CATEGORIES:Women's Lacrosse
END:VEVENT
BEGIN:VEVENT
DTSTART;TZID=UTC:20240229T180000
DTEND;TZID=UTC:20240229T180000
DTSTAMP:20260421T193847
CREATED:20240223T145656Z
LAST-MODIFIED:20240229T173313Z
UID:8873-1709229600-1709229600@www.tnwesleyan.edu
SUMMARY:(Women's Lacrosse) Tennessee Wesleyan at Webber International (FL)
DESCRIPTION:Women’s Lacrosse: (Women’s Lacrosse) Tennessee Wesleyan at Webber International (FL)\, Babson Park\, Fla.
URL:https://www.tnwesleyan.edu/event/womens-lacrosse-tennessee-wesleyan-at-webber-international-fl/
CATEGORIES:Women's Lacrosse
END:VEVENT
BEGIN:VEVENT
DTSTART;TZID=UTC:20240227T000000
DTEND;TZID=UTC:20240227T000000
DTSTAMP:20260421T193847
CREATED:20240223T145656Z
LAST-MODIFIED:20240226T154748Z
UID:8872-1708992000-1708992000@www.tnwesleyan.edu
SUMMARY:(Women's Lacrosse) Alma vs. Tennessee Wesleyan
DESCRIPTION:Women’s Lacrosse: (Women’s Lacrosse) Alma vs. Tennessee Wesleyan\, Chattanooga\, Tenn.
URL:https://www.tnwesleyan.edu/event/womens-lacrosse-alma-vs-tennessee-wesleyan/
CATEGORIES:Women's Lacrosse
END:VEVENT
BEGIN:VEVENT
DTSTART;TZID=UTC:20240224T190000
DTEND;TZID=UTC:20240224T190000
DTSTAMP:20260421T193847
CREATED:20240223T145656Z
LAST-MODIFIED:20240224T154844Z
UID:8871-1708801200-1708801200@www.tnwesleyan.edu
SUMMARY:(Women's Lacrosse) Concordia (MI) vs. Tennessee Wesleyan
DESCRIPTION:Women’s Lacrosse: (Women’s Lacrosse) Concordia (MI) vs. Tennessee Wesleyan
URL:https://www.tnwesleyan.edu/event/womens-lacrosse-concordia-mi-vs-tennessee-wesleyan/
CATEGORIES:Women's Lacrosse
END:VEVENT
END:VCALENDAR