BEGIN:VCALENDAR
VERSION:2.0
PRODID:-//Tennessee Wesleyan University - ECPv6.15.20//NONSGML v1.0//EN
CALSCALE:GREGORIAN
METHOD:PUBLISH
X-WR-CALNAME:Tennessee Wesleyan University
X-ORIGINAL-URL:https://www.tnwesleyan.edu
X-WR-CALDESC:Events for Tennessee Wesleyan University
REFRESH-INTERVAL;VALUE=DURATION:PT1H
X-Robots-Tag:noindex
X-PUBLISHED-TTL:PT1H
BEGIN:VTIMEZONE
TZID:UTC
BEGIN:STANDARD
TZOFFSETFROM:+0000
TZOFFSETTO:+0000
TZNAME:UTC
DTSTART:20230101T000000
END:STANDARD
END:VTIMEZONE
BEGIN:VEVENT
DTSTART;TZID=UTC:20240517T140000
DTEND;TZID=UTC:20240517T140000
DTSTAMP:20260421T125624
CREATED:20240517T055536Z
LAST-MODIFIED:20240517T055910Z
UID:12539-1715954400-1715954400@www.tnwesleyan.edu
SUMMARY:(Men's Tennis) Keiser vs. Tennessee Wesleyan
DESCRIPTION:Men’s Tennis: (Men’s Tennis) Keiser vs. Tennessee Wesleyan\, 2024 NAIA Men’s Tennis National Championship Semifinals
URL:https://www.tnwesleyan.edu/event/mens-tennis-keiser-vs-tennessee-wesleyan/
LOCATION:Mobile\, Ala.
CATEGORIES:Men's Tennis
END:VEVENT
BEGIN:VEVENT
DTSTART;TZID=UTC:20240516T140000
DTEND;TZID=UTC:20240516T140000
DTSTAMP:20260421T125624
CREATED:20240516T045625Z
LAST-MODIFIED:20240516T054359Z
UID:12466-1715868000-1715868000@www.tnwesleyan.edu
SUMMARY:(Men's Tennis) William Woods (MO) vs. Tennessee Wesleyan
DESCRIPTION:Men’s Tennis: (Men’s Tennis) William Woods (MO) vs. Tennessee Wesleyan\, 2024 NAIA Men’s Tennis National Championship Quarterfinals
URL:https://www.tnwesleyan.edu/event/mens-tennis-william-woods-mo-vs-tennessee-wesleyan/
LOCATION:Mobile\, Ala.
CATEGORIES:Men's Tennis
END:VEVENT
BEGIN:VEVENT
DTSTART;TZID=UTC:20240515T140000
DTEND;TZID=UTC:20240515T140000
DTSTAMP:20260421T125624
CREATED:20240505T034040Z
LAST-MODIFIED:20240515T045715Z
UID:12098-1715781600-1715781600@www.tnwesleyan.edu
SUMMARY:(Men's Tennis) Lindsey Wilson vs. Tennessee Wesleyan
DESCRIPTION:Men’s Tennis: (Men’s Tennis) Lindsey Wilson vs. Tennessee Wesleyan\, 2024 NAIA Men’s Tennis National Championship Second Round
URL:https://www.tnwesleyan.edu/event/mens-tennis-tba-vs-tennessee-wesleyan-2/
LOCATION:Mobile\, Ala.
CATEGORIES:Men's Tennis
END:VEVENT
BEGIN:VEVENT
DTSTART;VALUE=DATE:20240420
DTEND;VALUE=DATE:20240421
DTSTAMP:20260421T125624
CREATED:20240223T144712Z
LAST-MODIFIED:20240419T014230Z
UID:8821-1713571200-1713657599@www.tnwesleyan.edu
SUMMARY:(Men's Tennis) Emory University vs. Tennessee Wesleyan
DESCRIPTION:Men’s Tennis: (Men’s Tennis) Emory University vs. Tennessee Wesleyan\, Senior Day
URL:https://www.tnwesleyan.edu/event/mens-tennis-emory-university-vs-tennessee-wesleyan/
CATEGORIES:Men's Tennis
END:VEVENT
BEGIN:VEVENT
DTSTART;TZID=UTC:20240412T130000
DTEND;TZID=UTC:20240412T130000
DTSTAMP:20260421T125624
CREATED:20240405T231049Z
LAST-MODIFIED:20240411T235730Z
UID:10894-1712926800-1712926800@www.tnwesleyan.edu
SUMMARY:(Men's Tennis) Columbia (SC) vs. Tennessee Wesleyan
DESCRIPTION:Men’s Tennis: (Men’s Tennis) Columbia (SC) vs. Tennessee Wesleyan\, AAC Tournament Quarterfinals
URL:https://www.tnwesleyan.edu/event/mens-tennis-columbia-sc-vs-tennessee-wesleyan/
LOCATION:Champions Club in Chattanooga\, Tenn.
CATEGORIES:Men's Tennis
END:VEVENT
BEGIN:VEVENT
DTSTART;VALUE=DATE:20240411
DTEND;VALUE=DATE:20240412
DTSTAMP:20260421T125624
CREATED:20240223T144712Z
LAST-MODIFIED:20240409T232832Z
UID:8820-1712793600-1712879999@www.tnwesleyan.edu
SUMMARY:(Men's Tennis) TBA vs. Tennessee Wesleyan
DESCRIPTION:Men’s Tennis: (Men’s Tennis) TBA vs. Tennessee Wesleyan\, AAC Tournament
URL:https://www.tnwesleyan.edu/event/mens-tennis-tba-vs-tennessee-wesleyan/
LOCATION:Chattanooga\, Tenn.
CATEGORIES:Men's Tennis
END:VEVENT
BEGIN:VEVENT
DTSTART;VALUE=DATE:20240403
DTEND;VALUE=DATE:20240404
DTSTAMP:20260421T125624
CREATED:20240223T144712Z
LAST-MODIFIED:20240402T223820Z
UID:8819-1712102400-1712188799@www.tnwesleyan.edu
SUMMARY:(Men's Tennis) Reinhardt (GA) vs. Tennessee Wesleyan
DESCRIPTION:Men’s Tennis: (Men’s Tennis) Reinhardt (GA) vs. Tennessee Wesleyan\, Athens\, Tenn.
URL:https://www.tnwesleyan.edu/event/mens-tennis-reinhardt-ga-vs-tennessee-wesleyan/
CATEGORIES:Men's Tennis
END:VEVENT
BEGIN:VEVENT
DTSTART;VALUE=DATE:20240329
DTEND;VALUE=DATE:20240330
DTSTAMP:20260421T125624
CREATED:20240223T144706Z
LAST-MODIFIED:20240328T212631Z
UID:8808-1711670400-1711756799@www.tnwesleyan.edu
SUMMARY:(Men's Tennis) Tennessee Wesleyan at SCAD Atlanta
DESCRIPTION:Men’s Tennis: (Men’s Tennis) Tennessee Wesleyan at SCAD Atlanta\, Atlanta\, Ga.
URL:https://www.tnwesleyan.edu/event/mens-tennis-tennessee-wesleyan-at-scad-atlanta/
CATEGORIES:Men's Tennis
END:VEVENT
BEGIN:VEVENT
DTSTART;VALUE=DATE:20240328
DTEND;VALUE=DATE:20240329
DTSTAMP:20260421T125624
CREATED:20240223T144706Z
LAST-MODIFIED:20240327T203659Z
UID:8807-1711584000-1711670399@www.tnwesleyan.edu
SUMMARY:(Men's Tennis) University of Montevallo vs. Tennessee Wesleyan
DESCRIPTION:Men’s Tennis: (Men’s Tennis) University of Montevallo vs. Tennessee Wesleyan\, Athens\, Tenn.
URL:https://www.tnwesleyan.edu/event/mens-tennis-university-of-montevallo-vs-tennessee-wesleyan/
CATEGORIES:Men's Tennis
END:VEVENT
BEGIN:VEVENT
DTSTART;TZID=UTC:20240327T180000
DTEND;TZID=UTC:20240327T180000
DTSTAMP:20260421T125624
CREATED:20240223T144705Z
LAST-MODIFIED:20240326T202521Z
UID:8806-1711562400-1711562400@www.tnwesleyan.edu
SUMMARY:(Men's Tennis) Union (KY) vs. Tennessee Wesleyan
DESCRIPTION:Men’s Tennis: (Men’s Tennis) Union (KY) vs. Tennessee Wesleyan
URL:https://www.tnwesleyan.edu/event/mens-tennis-union-ky-vs-tennessee-wesleyan/
CATEGORIES:Men's Tennis
END:VEVENT
BEGIN:VEVENT
DTSTART;VALUE=DATE:20240322
DTEND;VALUE=DATE:20240323
DTSTAMP:20260421T125624
CREATED:20240223T144705Z
LAST-MODIFIED:20240314T184916Z
UID:8805-1711065600-1711151999@www.tnwesleyan.edu
SUMMARY:(Men's Tennis) Montreat (NC) vs. Tennessee Wesleyan
DESCRIPTION:Men’s Tennis: (Men’s Tennis) Montreat (NC) vs. Tennessee Wesleyan\, Athens\, Tenn.
URL:https://www.tnwesleyan.edu/event/mens-tennis-montreat-nc-vs-tennessee-wesleyan/
CATEGORIES:Men's Tennis
END:VEVENT
BEGIN:VEVENT
DTSTART;TZID=UTC:20240321T190000
DTEND;TZID=UTC:20240321T190000
DTSTAMP:20260421T125624
CREATED:20240223T144705Z
LAST-MODIFIED:20240320T193430Z
UID:8798-1711047600-1711047600@www.tnwesleyan.edu
SUMMARY:(Men's Tennis) Tennessee Wesleyan at Pikeville (	KY)
DESCRIPTION:Men’s Tennis: (Men’s Tennis) Tennessee Wesleyan at Pikeville (	KY)\, Pikeville\, Ky.
URL:https://www.tnwesleyan.edu/event/mens-tennis-bluefield-va-vs-tennessee-wesleyan/
CATEGORIES:Men's Tennis
END:VEVENT
BEGIN:VEVENT
DTSTART;VALUE=DATE:20240313
DTEND;VALUE=DATE:20240314
DTSTAMP:20260421T125624
CREATED:20240223T144705Z
LAST-MODIFIED:20240312T184822Z
UID:8804-1710288000-1710374399@www.tnwesleyan.edu
SUMMARY:(Men's Tennis) Drury University vs. Tennessee Wesleyan
DESCRIPTION:Men’s Tennis: (Men’s Tennis) Drury University vs. Tennessee Wesleyan\, Match Being Played at Champions Club
URL:https://www.tnwesleyan.edu/event/mens-tennis-drury-university-vs-tennessee-wesleyan/
LOCATION:Chattanooga\, Tenn.
CATEGORIES:Men's Tennis
END:VEVENT
BEGIN:VEVENT
DTSTART;TZID=UTC:20240310T183000
DTEND;TZID=UTC:20240310T183000
DTSTAMP:20260421T125624
CREATED:20240223T144705Z
LAST-MODIFIED:20240310T181823Z
UID:8803-1710095400-1710095400@www.tnwesleyan.edu
SUMMARY:(Men's Tennis) Columbus State vs. Tennessee Wesleyan
DESCRIPTION:Men’s Tennis: (Men’s Tennis) Columbus State vs. Tennessee Wesleyan\, Match Being Played at Champions Club
URL:https://www.tnwesleyan.edu/event/mens-tennis-columbus-state-vs-tennessee-wesleyan/
LOCATION:Chattanooga\, Tenn.
CATEGORIES:Men's Tennis
END:VEVENT
BEGIN:VEVENT
DTSTART;TZID=UTC:20240309T190000
DTEND;TZID=UTC:20240309T190000
DTSTAMP:20260421T125624
CREATED:20240223T144705Z
LAST-MODIFIED:20240309T181819Z
UID:8801-1710010800-1710010800@www.tnwesleyan.edu
SUMMARY:(Men's Tennis) University of North Georgia vs. Tennessee Wesleyan
DESCRIPTION:Men’s Tennis: (Men’s Tennis) University of North Georgia vs. Tennessee Wesleyan\, Match Being Played at Champions Club
URL:https://www.tnwesleyan.edu/event/mens-tennis-university-of-north-georgia-vs-tennessee-wesleyan/
LOCATION:Chattanooga\, Tenn.
CATEGORIES:Men's Tennis
END:VEVENT
BEGIN:VEVENT
DTSTART;TZID=UTC:20240303T190000
DTEND;TZID=UTC:20240303T190000
DTSTAMP:20260421T125624
CREATED:20240223T144705Z
LAST-MODIFIED:20240303T180249Z
UID:8799-1709492400-1709492400@www.tnwesleyan.edu
SUMMARY:(Men's Tennis) Truett-McConnell vs. Tennessee Wesleyan
DESCRIPTION:Men’s Tennis: (Men’s Tennis) Truett-McConnell vs. Tennessee Wesleyan\, Athens\, Tenn.
URL:https://www.tnwesleyan.edu/event/mens-tennis-truett-mcconnell-vs-tennessee-wesleyan/
CATEGORIES:Men's Tennis
END:VEVENT
BEGIN:VEVENT
DTSTART;VALUE=DATE:20240224
DTEND;VALUE=DATE:20240225
DTSTAMP:20260421T125624
CREATED:20240223T144705Z
LAST-MODIFIED:20240223T144711Z
UID:8797-1708732800-1708819199@www.tnwesleyan.edu
SUMMARY:(Men's Tennis) The Citadel vs. Tennessee Wesleyan
DESCRIPTION:Men’s Tennis: (Men’s Tennis) The Citadel vs. Tennessee Wesleyan\, Athens\, Tenn.
URL:https://www.tnwesleyan.edu/event/mens-tennis-the-citadel-vs-tennessee-wesleyan/
CATEGORIES:Men's Tennis
END:VEVENT
END:VCALENDAR