BEGIN:VCALENDAR
VERSION:2.0
PRODID:-//Tennessee Wesleyan University - ECPv6.15.20//NONSGML v1.0//EN
CALSCALE:GREGORIAN
METHOD:PUBLISH
X-ORIGINAL-URL:https://www.tnwesleyan.edu
X-WR-CALDESC:Events for Tennessee Wesleyan University
REFRESH-INTERVAL;VALUE=DURATION:PT1H
X-Robots-Tag:noindex
X-PUBLISHED-TTL:PT1H
BEGIN:VTIMEZONE
TZID:America/New_York
BEGIN:DAYLIGHT
TZOFFSETFROM:-0500
TZOFFSETTO:-0400
TZNAME:EDT
DTSTART:20230312T070000
END:DAYLIGHT
BEGIN:STANDARD
TZOFFSETFROM:-0400
TZOFFSETTO:-0500
TZNAME:EST
DTSTART:20231105T060000
END:STANDARD
BEGIN:DAYLIGHT
TZOFFSETFROM:-0500
TZOFFSETTO:-0400
TZNAME:EDT
DTSTART:20240310T070000
END:DAYLIGHT
BEGIN:STANDARD
TZOFFSETFROM:-0400
TZOFFSETTO:-0500
TZNAME:EST
DTSTART:20241103T060000
END:STANDARD
BEGIN:DAYLIGHT
TZOFFSETFROM:-0500
TZOFFSETTO:-0400
TZNAME:EDT
DTSTART:20250309T070000
END:DAYLIGHT
BEGIN:STANDARD
TZOFFSETFROM:-0400
TZOFFSETTO:-0500
TZNAME:EST
DTSTART:20251102T060000
END:STANDARD
END:VTIMEZONE
BEGIN:VEVENT
DTSTART;TZID=America/New_York:20241101T110000
DTEND;TZID=America/New_York:20241101T160000
DTSTAMP:20260423T000207
CREATED:20241216T041521Z
LAST-MODIFIED:20241216T041521Z
UID:14323-1730458800-1730476800@www.tnwesleyan.edu
SUMMARY:Board of Trustees Meeting
DESCRIPTION:
URL:https://www.tnwesleyan.edu/event/board-of-trustees-meeting/
LOCATION:Colloms Campus Center
CATEGORIES:Campus Events
END:VEVENT
BEGIN:VEVENT
DTSTART;VALUE=DATE:20241028
DTEND;VALUE=DATE:20241109
DTSTAMP:20260423T000207
CREATED:20240624T143945Z
LAST-MODIFIED:20240624T143945Z
UID:13298-1730073600-1731110399@www.tnwesleyan.edu
SUMMARY:Advisement Weeks
DESCRIPTION:
URL:https://www.tnwesleyan.edu/event/advisement-weeks/
CATEGORIES:Campus Events
END:VEVENT
BEGIN:VEVENT
DTSTART;VALUE=DATE:20241010
DTEND;VALUE=DATE:20241014
DTSTAMP:20260423T000207
CREATED:20240624T140329Z
LAST-MODIFIED:20240624T140329Z
UID:13275-1728518400-1728863999@www.tnwesleyan.edu
SUMMARY:Fall Break
DESCRIPTION:
URL:https://www.tnwesleyan.edu/event/fall-break/
CATEGORIES:Campus Events
END:VEVENT
BEGIN:VEVENT
DTSTART;VALUE=DATE:20241007
DTEND;VALUE=DATE:20241008
DTSTAMP:20260423T000207
CREATED:20240624T140238Z
LAST-MODIFIED:20240624T140238Z
UID:13273-1728259200-1728345599@www.tnwesleyan.edu
SUMMARY:Mid-Term Day
DESCRIPTION:
URL:https://www.tnwesleyan.edu/event/mid-term-day/
CATEGORIES:Campus Events
END:VEVENT
BEGIN:VEVENT
DTSTART;VALUE=DATE:20241001
DTEND;VALUE=DATE:20241002
DTSTAMP:20260423T000207
CREATED:20240624T140154Z
LAST-MODIFIED:20240624T140154Z
UID:13271-1727740800-1727827199@www.tnwesleyan.edu
SUMMARY:Assessment Day/Day of Service
DESCRIPTION:
URL:https://www.tnwesleyan.edu/event/assessment-day-day-of-service/
CATEGORIES:Campus Events
END:VEVENT
BEGIN:VEVENT
DTSTART;VALUE=DATE:20240902
DTEND;VALUE=DATE:20240903
DTSTAMP:20260423T000207
CREATED:20240624T135717Z
LAST-MODIFIED:20240624T135717Z
UID:13269-1725235200-1725321599@www.tnwesleyan.edu
SUMMARY:Labor Day Holiday
DESCRIPTION:
URL:https://www.tnwesleyan.edu/event/labor-day-holiday-2/
CATEGORIES:Campus Events
END:VEVENT
BEGIN:VEVENT
DTSTART;TZID=America/New_York:20240823T080000
DTEND;TZID=America/New_York:20240823T170000
DTSTAMP:20260423T000207
CREATED:20240624T135409Z
LAST-MODIFIED:20240624T135932Z
UID:13265-1724400000-1724432400@www.tnwesleyan.edu
SUMMARY:Last Day to Add or Register Late
DESCRIPTION:
URL:https://www.tnwesleyan.edu/event/last-day-to-add-or-register-late/
CATEGORIES:Campus Events
END:VEVENT
BEGIN:VEVENT
DTSTART;VALUE=DATE:20240819
DTEND;VALUE=DATE:20240820
DTSTAMP:20260423T000207
CREATED:20240624T135311Z
LAST-MODIFIED:20240624T135311Z
UID:13263-1724025600-1724111999@www.tnwesleyan.edu
SUMMARY:Classes Begin
DESCRIPTION:
URL:https://www.tnwesleyan.edu/event/classes-begin/
CATEGORIES:Campus Events
END:VEVENT
BEGIN:VEVENT
DTSTART;VALUE=DATE:20240818
DTEND;VALUE=DATE:20240819
DTSTAMP:20260423T000207
CREATED:20240624T135206Z
LAST-MODIFIED:20240624T135206Z
UID:13261-1723939200-1724025599@www.tnwesleyan.edu
SUMMARY:Residence Halls Open for Returning Students
DESCRIPTION:
URL:https://www.tnwesleyan.edu/event/residence-halls-open-for-returning-students/
CATEGORIES:Campus Events
END:VEVENT
BEGIN:VEVENT
DTSTART;VALUE=DATE:20240816
DTEND;VALUE=DATE:20240819
DTSTAMP:20260423T000207
CREATED:20240624T135052Z
LAST-MODIFIED:20240624T135052Z
UID:13259-1723766400-1724025599@www.tnwesleyan.edu
SUMMARY:Welcome Weekend
DESCRIPTION:
URL:https://www.tnwesleyan.edu/event/welcome-weekend/
CATEGORIES:Campus Events
END:VEVENT
BEGIN:VEVENT
DTSTART;VALUE=DATE:20240816
DTEND;VALUE=DATE:20240817
DTSTAMP:20260423T000207
CREATED:20240624T134751Z
LAST-MODIFIED:20240624T134751Z
UID:13253-1723766400-1723852799@www.tnwesleyan.edu
SUMMARY:MOT Orientation (in Knoxville)
DESCRIPTION:
URL:https://www.tnwesleyan.edu/event/mot-orientation-in-knoxville/
CATEGORIES:Campus Events
END:VEVENT
BEGIN:VEVENT
DTSTART;VALUE=DATE:20240815
DTEND;VALUE=DATE:20240816
DTSTAMP:20260423T000207
CREATED:20240624T134942Z
LAST-MODIFIED:20240624T134942Z
UID:13257-1723680000-1723766399@www.tnwesleyan.edu
SUMMARY:Residence Halls Open for New Students
DESCRIPTION:
URL:https://www.tnwesleyan.edu/event/residence-halls-open-for-new-students/
CATEGORIES:Campus Events
END:VEVENT
BEGIN:VEVENT
DTSTART;VALUE=DATE:20240814
DTEND;VALUE=DATE:20240816
DTSTAMP:20260423T000208
CREATED:20240624T134853Z
LAST-MODIFIED:20240624T134853Z
UID:13255-1723593600-1723766399@www.tnwesleyan.edu
SUMMARY:New Student Orientation
DESCRIPTION:
URL:https://www.tnwesleyan.edu/event/new-student-orientation/
CATEGORIES:Campus Events
END:VEVENT
BEGIN:VEVENT
DTSTART;VALUE=DATE:20240814
DTEND;VALUE=DATE:20240815
DTSTAMP:20260423T000208
CREATED:20240624T134647Z
LAST-MODIFIED:20240624T134647Z
UID:13251-1723593600-1723679999@www.tnwesleyan.edu
SUMMARY:MOT Check-in (online)
DESCRIPTION:
URL:https://www.tnwesleyan.edu/event/mot-check-in-online/
CATEGORIES:Campus Events
END:VEVENT
BEGIN:VEVENT
DTSTART;VALUE=DATE:20240813
DTEND;VALUE=DATE:20240816
DTSTAMP:20260423T000208
CREATED:20240624T134337Z
LAST-MODIFIED:20240624T134421Z
UID:13249-1723507200-1723766399@www.tnwesleyan.edu
SUMMARY:Dental Hygiene Orientation
DESCRIPTION:
URL:https://www.tnwesleyan.edu/event/dental-hygiene-orientation/
CATEGORIES:Campus Events
END:VEVENT
BEGIN:VEVENT
DTSTART;TZID=America/New_York:20240812T080000
DTEND;TZID=America/New_York:20240812T170000
DTSTAMP:20260423T000208
CREATED:20240624T134209Z
LAST-MODIFIED:20240624T134209Z
UID:13247-1723449600-1723482000@www.tnwesleyan.edu
SUMMARY:Dental Hygiene Check-in (online)
DESCRIPTION:
URL:https://www.tnwesleyan.edu/event/dental-hygiene-check-in-online/
CATEGORIES:Campus Events
END:VEVENT
BEGIN:VEVENT
DTSTART;TZID=America/New_York:20240812T080000
DTEND;TZID=America/New_York:20240812T170000
DTSTAMP:20260423T000208
CREATED:20240624T134011Z
LAST-MODIFIED:20240624T134011Z
UID:13245-1723449600-1723482000@www.tnwesleyan.edu
SUMMARY:Nursing Check-in (online) and Orientation (in Knoxville)
DESCRIPTION:
URL:https://www.tnwesleyan.edu/event/nursing-check-in-online-and-orientation-in-knoxville/
CATEGORIES:Campus Events
END:VEVENT
BEGIN:VEVENT
DTSTART;TZID=America/New_York:20240710T090000
DTEND;TZID=America/New_York:20240710T153000
DTSTAMP:20260423T000208
CREATED:20240212T141150Z
LAST-MODIFIED:20240223T142905Z
UID:8330-1720602000-1720625400@www.tnwesleyan.edu
SUMMARY:Transfer Orientation
DESCRIPTION:
URL:https://www.tnwesleyan.edu/event/transfer-orientation/
CATEGORIES:Campus Events
END:VEVENT
BEGIN:VEVENT
DTSTART;TZID=America/New_York:20240613T120000
DTEND;TZID=America/New_York:20240613T150000
DTSTAMP:20260423T000208
CREATED:20240212T141110Z
LAST-MODIFIED:20240223T142905Z
UID:8328-1718280000-1718290800@www.tnwesleyan.edu
SUMMARY:Freshman Orientation
DESCRIPTION:
URL:https://www.tnwesleyan.edu/event/freshman-orientation-2/
CATEGORIES:Campus Events
END:VEVENT
BEGIN:VEVENT
DTSTART;TZID=America/New_York:20240523T120000
DTEND;TZID=America/New_York:20240523T150000
DTSTAMP:20260423T000208
CREATED:20240212T141039Z
LAST-MODIFIED:20240223T142905Z
UID:8326-1716465600-1716476400@www.tnwesleyan.edu
SUMMARY:Freshman Orientation
DESCRIPTION:
URL:https://www.tnwesleyan.edu/event/freshman-orientation/
CATEGORIES:Campus Events
END:VEVENT
END:VCALENDAR