BEGIN:VCALENDAR
VERSION:2.0
PRODID:-//Tennessee Wesleyan University - ECPv6.15.20//NONSGML v1.0//EN
CALSCALE:GREGORIAN
METHOD:PUBLISH
X-WR-CALNAME:Tennessee Wesleyan University
X-ORIGINAL-URL:https://www.tnwesleyan.edu
X-WR-CALDESC:Events for Tennessee Wesleyan University
REFRESH-INTERVAL;VALUE=DURATION:PT1H
X-Robots-Tag:noindex
X-PUBLISHED-TTL:PT1H
BEGIN:VTIMEZONE
TZID:UTC
BEGIN:STANDARD
TZOFFSETFROM:+0000
TZOFFSETTO:+0000
TZNAME:UTC
DTSTART:20230101T000000
END:STANDARD
END:VTIMEZONE
BEGIN:VEVENT
DTSTART;TZID=UTC:20240304T190000
DTEND;TZID=UTC:20240304T190000
DTSTAMP:20260421T171126
CREATED:20240223T142411Z
LAST-MODIFIED:20240304T150236Z
UID:8681-1709578800-1709578800@www.tnwesleyan.edu
SUMMARY:(Baseball) LSU Shreveport vs. Tennessee Wesleyan
DESCRIPTION:Baseball: (Baseball) LSU Shreveport vs. Tennessee Wesleyan\, Athens\, Tenn.\, Cancelled
URL:https://www.tnwesleyan.edu/event/baseball-lsu-shreveport-vs-tennessee-wesleyan/
CATEGORIES:Men's Baseball
END:VEVENT
BEGIN:VEVENT
DTSTART;TZID=UTC:20240303T190000
DTEND;TZID=UTC:20240303T190000
DTSTAMP:20260421T171126
CREATED:20240223T142410Z
LAST-MODIFIED:20240303T150251Z
UID:8678-1709492400-1709492400@www.tnwesleyan.edu
SUMMARY:(Baseball) Tennessee Wesleyan at Reinhardt (GA)
DESCRIPTION:Baseball: (Baseball) Tennessee Wesleyan at Reinhardt (GA)\, Waleska\, GA
URL:https://www.tnwesleyan.edu/event/baseball-tennessee-wesleyan-at-reinhardt-ga/
CATEGORIES:Men's Baseball
END:VEVENT
BEGIN:VEVENT
DTSTART;TZID=UTC:20240302T233000
DTEND;TZID=UTC:20240302T233000
DTSTAMP:20260421T171126
CREATED:20240223T142411Z
LAST-MODIFIED:20240302T150246Z
UID:8680-1709422200-1709422200@www.tnwesleyan.edu
SUMMARY:(Baseball) Tennessee Wesleyan at Reinhardt (GA)
DESCRIPTION:Baseball: (Baseball) Tennessee Wesleyan at Reinhardt (GA)\, Waleska\, GA
URL:https://www.tnwesleyan.edu/event/baseball-tennessee-wesleyan-at-reinhardt-ga-3/
CATEGORIES:Men's Baseball
END:VEVENT
BEGIN:VEVENT
DTSTART;TZID=UTC:20240302T200000
DTEND;TZID=UTC:20240302T200000
DTSTAMP:20260421T171126
CREATED:20240223T142411Z
LAST-MODIFIED:20240302T150246Z
UID:8679-1709409600-1709409600@www.tnwesleyan.edu
SUMMARY:(Baseball) Tennessee Wesleyan at Reinhardt (GA)
DESCRIPTION:Baseball: (Baseball) Tennessee Wesleyan at Reinhardt (GA)\, Waleska\, GA
URL:https://www.tnwesleyan.edu/event/baseball-tennessee-wesleyan-at-reinhardt-ga-2/
CATEGORIES:Men's Baseball
END:VEVENT
BEGIN:VEVENT
DTSTART;TZID=UTC:20240227T190000
DTEND;TZID=UTC:20240227T190000
DTSTAMP:20260421T171126
CREATED:20240223T142410Z
LAST-MODIFIED:20240227T144736Z
UID:8677-1709060400-1709060400@www.tnwesleyan.edu
SUMMARY:(Baseball) Cumberlands (KY) vs. Tennessee Wesleyan
DESCRIPTION:Baseball: (Baseball) Cumberlands (KY) vs. Tennessee Wesleyan
URL:https://www.tnwesleyan.edu/event/baseball-cumberlands-ky-vs-tennessee-wesleyan/
CATEGORIES:Men's Baseball
END:VEVENT
BEGIN:VEVENT
DTSTART;TZID=UTC:20240224T200000
DTEND;TZID=UTC:20240224T200000
DTSTAMP:20260421T171126
CREATED:20240223T142410Z
LAST-MODIFIED:20240224T143238Z
UID:8676-1708804800-1708804800@www.tnwesleyan.edu
SUMMARY:(Baseball) Tennessee Wesleyan at CIU (SC)
DESCRIPTION:Baseball: (Baseball) Tennessee Wesleyan at CIU (SC)
URL:https://www.tnwesleyan.edu/event/baseball-tennessee-wesleyan-at-ciu-sc-3/
CATEGORIES:Men's Baseball
END:VEVENT
BEGIN:VEVENT
DTSTART;TZID=UTC:20240224T170000
DTEND;TZID=UTC:20240224T170000
DTSTAMP:20260421T171126
CREATED:20240223T142410Z
LAST-MODIFIED:20240224T143238Z
UID:8675-1708794000-1708794000@www.tnwesleyan.edu
SUMMARY:(Baseball) Tennessee Wesleyan at CIU (SC)
DESCRIPTION:Baseball: (Baseball) Tennessee Wesleyan at CIU (SC)
URL:https://www.tnwesleyan.edu/event/baseball-tennessee-wesleyan-at-ciu-sc-2/
CATEGORIES:Men's Baseball
END:VEVENT
BEGIN:VEVENT
DTSTART;TZID=UTC:20240223T210000
DTEND;TZID=UTC:20240223T210000
DTSTAMP:20260421T171126
CREATED:20240223T142410Z
LAST-MODIFIED:20240223T142415Z
UID:8674-1708722000-1708722000@www.tnwesleyan.edu
SUMMARY:(Baseball) Tennessee Wesleyan at CIU (SC)
DESCRIPTION:Baseball: (Baseball) Tennessee Wesleyan at CIU (SC)
URL:https://www.tnwesleyan.edu/event/baseball-tennessee-wesleyan-at-ciu-sc/
CATEGORIES:Men's Baseball
END:VEVENT
END:VCALENDAR