BEGIN:VCALENDAR
VERSION:2.0
PRODID:-//Tennessee Wesleyan University - ECPv6.15.17.1//NONSGML v1.0//EN
CALSCALE:GREGORIAN
METHOD:PUBLISH
X-ORIGINAL-URL:https://www.tnwesleyan.edu
X-WR-CALDESC:Events for Tennessee Wesleyan University
REFRESH-INTERVAL;VALUE=DURATION:PT1H
X-Robots-Tag:noindex
X-PUBLISHED-TTL:PT1H
BEGIN:VTIMEZONE
TZID:UTC
BEGIN:STANDARD
TZOFFSETFROM:+0000
TZOFFSETTO:+0000
TZNAME:UTC
DTSTART:20230101T000000
END:STANDARD
END:VTIMEZONE
BEGIN:VTIMEZONE
TZID:America/New_York
BEGIN:DAYLIGHT
TZOFFSETFROM:-0500
TZOFFSETTO:-0400
TZNAME:EDT
DTSTART:20230312T070000
END:DAYLIGHT
BEGIN:STANDARD
TZOFFSETFROM:-0400
TZOFFSETTO:-0500
TZNAME:EST
DTSTART:20231105T060000
END:STANDARD
BEGIN:DAYLIGHT
TZOFFSETFROM:-0500
TZOFFSETTO:-0400
TZNAME:EDT
DTSTART:20240310T070000
END:DAYLIGHT
BEGIN:STANDARD
TZOFFSETFROM:-0400
TZOFFSETTO:-0500
TZNAME:EST
DTSTART:20241103T060000
END:STANDARD
BEGIN:DAYLIGHT
TZOFFSETFROM:-0500
TZOFFSETTO:-0400
TZNAME:EDT
DTSTART:20250309T070000
END:DAYLIGHT
BEGIN:STANDARD
TZOFFSETFROM:-0400
TZOFFSETTO:-0500
TZNAME:EST
DTSTART:20251102T060000
END:STANDARD
END:VTIMEZONE
BEGIN:VEVENT
DTSTART;VALUE=DATE:20240409
DTEND;VALUE=DATE:20240410
DTSTAMP:20260419T105445
CREATED:20240223T144312Z
LAST-MODIFIED:20240408T232719Z
UID:8761-1712620800-1712707199@www.tnwesleyan.edu
SUMMARY:(Men's Golf) Midway Invitational
DESCRIPTION:Men’s Golf: (Men’s Golf) Midway Invitational\, Griffin Gate\, Lexington\, Ky.
URL:https://www.tnwesleyan.edu/event/mens-golf-midway-invitational-2/
CATEGORIES:Men's Golf
END:VEVENT
BEGIN:VEVENT
DTSTART;VALUE=DATE:20240409
DTEND;VALUE=DATE:20240410
DTSTAMP:20260419T105445
CREATED:20240223T145619Z
LAST-MODIFIED:20240408T194353Z
UID:8853-1712620800-1712707199@www.tnwesleyan.edu
SUMMARY:(Women's Golf) TWU Spring Invitational
DESCRIPTION:Women’s Golf: (Women’s Golf) TWU Spring Invitational\, Springbrook Golf and Country Club\, Niota\, Tenn.
URL:https://www.tnwesleyan.edu/event/womens-golf-twu-spring-invitational-2/
CATEGORIES:Women's Golf
END:VEVENT
BEGIN:VEVENT
DTSTART;TZID=America/New_York:20240409T100000
DTEND;TZID=America/New_York:20240409T130000
DTSTAMP:20260419T105445
CREATED:20240212T140959Z
LAST-MODIFIED:20240212T140959Z
UID:8324-1712656800-1712667600@www.tnwesleyan.edu
SUMMARY:Choose Blue
DESCRIPTION:
URL:https://www.tnwesleyan.edu/event/choose-blue/
END:VEVENT
BEGIN:VEVENT
DTSTART;TZID=UTC:20240409T190000
DTEND;TZID=UTC:20240409T190000
DTSTAMP:20260419T105445
CREATED:20240223T142417Z
LAST-MODIFIED:20240409T172753Z
UID:8709-1712689200-1712689200@www.tnwesleyan.edu
SUMMARY:(Baseball) Tennessee Wesleyan at Cumberlands (KY)
DESCRIPTION:Baseball: (Baseball) Tennessee Wesleyan at Cumberlands (KY)\, Cancelled
URL:https://www.tnwesleyan.edu/event/baseball-tennessee-wesleyan-at-cumberlands-ky/
CATEGORIES:Men's Baseball
END:VEVENT
END:VCALENDAR