BEGIN:VCALENDAR
VERSION:2.0
PRODID:-//Tennessee Wesleyan University - ECPv6.15.17.1//NONSGML v1.0//EN
CALSCALE:GREGORIAN
METHOD:PUBLISH
X-ORIGINAL-URL:https://www.tnwesleyan.edu
X-WR-CALDESC:Events for Tennessee Wesleyan University
REFRESH-INTERVAL;VALUE=DURATION:PT1H
X-Robots-Tag:noindex
X-PUBLISHED-TTL:PT1H
BEGIN:VTIMEZONE
TZID:UTC
BEGIN:STANDARD
TZOFFSETFROM:+0000
TZOFFSETTO:+0000
TZNAME:UTC
DTSTART:20230101T000000
END:STANDARD
END:VTIMEZONE
BEGIN:VEVENT
DTSTART;VALUE=DATE:20240403
DTEND;VALUE=DATE:20240404
DTSTAMP:20260419T105449
CREATED:20240223T144712Z
LAST-MODIFIED:20240402T223820Z
UID:8819-1712102400-1712188799@www.tnwesleyan.edu
SUMMARY:(Men's Tennis) Reinhardt (GA) vs. Tennessee Wesleyan
DESCRIPTION:Men’s Tennis: (Men’s Tennis) Reinhardt (GA) vs. Tennessee Wesleyan\, Athens\, Tenn.
URL:https://www.tnwesleyan.edu/event/mens-tennis-reinhardt-ga-vs-tennessee-wesleyan/
CATEGORIES:Men's Tennis
END:VEVENT
BEGIN:VEVENT
DTSTART;TZID=UTC:20240403T170000
DTEND;TZID=UTC:20240403T170000
DTSTAMP:20260419T105449
CREATED:20240223T142417Z
LAST-MODIFIED:20240402T170806Z
UID:8713-1712163600-1712163600@www.tnwesleyan.edu
SUMMARY:(Baseball) Cumberland (TN) vs. Tennessee Wesleyan
DESCRIPTION:Baseball: (Baseball) Cumberland (TN) vs. Tennessee Wesleyan\, Athens\, Tenn.
URL:https://www.tnwesleyan.edu/event/baseball-cumberland-tn-vs-tennessee-wesleyan/
CATEGORIES:Men's Baseball
END:VEVENT
BEGIN:VEVENT
DTSTART;TZID=UTC:20240403T170000
DTEND;TZID=UTC:20240403T170000
DTSTAMP:20260419T105449
CREATED:20240223T145955Z
LAST-MODIFIED:20240402T220615Z
UID:8975-1712163600-1712163600@www.tnwesleyan.edu
SUMMARY:(Women's Tennis) Reinhardt (GA) vs. Tennessee Wesleyan
DESCRIPTION:Women’s Tennis: (Women’s Tennis) Reinhardt (GA) vs. Tennessee Wesleyan\, Senior Day
URL:https://www.tnwesleyan.edu/event/womens-tennis-reinhardt-ga-vs-tennessee-wesleyan/
CATEGORIES:Women's Tennis
END:VEVENT
BEGIN:VEVENT
DTSTART;TZID=UTC:20240403T190000
DTEND;TZID=UTC:20240403T190000
DTSTAMP:20260419T105449
CREATED:20240223T145924Z
LAST-MODIFIED:20240402T220611Z
UID:8936-1712170800-1712170800@www.tnwesleyan.edu
SUMMARY:(Softball) Cumberlands (KY) vs. Tennessee Wesleyan
DESCRIPTION:Softball: (Softball) Cumberlands (KY) vs. Tennessee Wesleyan\, Postponed
URL:https://www.tnwesleyan.edu/event/softball-cumberlands-ky-vs-tennessee-wesleyan/
CATEGORIES:Softball
END:VEVENT
BEGIN:VEVENT
DTSTART;TZID=UTC:20240403T190000
DTEND;TZID=UTC:20240403T190000
DTSTAMP:20260419T105449
CREATED:20240402T170535Z
LAST-MODIFIED:20240403T170635Z
UID:10669-1712170800-1712170800@www.tnwesleyan.edu
SUMMARY:(Baseball) Cumberland (TN) vs. Tennessee Wesleyan
DESCRIPTION:Baseball: (Baseball) Cumberland (TN) vs. Tennessee Wesleyan\, Athens\, Tenn.
URL:https://www.tnwesleyan.edu/event/baseball-cumberland-tn-vs-tennessee-wesleyan-2/
CATEGORIES:Men's Baseball
END:VEVENT
BEGIN:VEVENT
DTSTART;TZID=UTC:20240403T230000
DTEND;TZID=UTC:20240403T230000
DTSTAMP:20260419T105449
CREATED:20240223T145709Z
LAST-MODIFIED:20240403T225423Z
UID:8884-1712185200-1712185200@www.tnwesleyan.edu
SUMMARY:(Women's Lacrosse) Tennessee Wesleyan at Cumberlands (KY)
DESCRIPTION:Women’s Lacrosse: (Women’s Lacrosse) Tennessee Wesleyan at Cumberlands (KY)\, Williamsburg\, Ky.
URL:https://www.tnwesleyan.edu/event/womens-lacrosse-tennessee-wesleyan-at-cumberlands-ky/
CATEGORIES:Women's Lacrosse
END:VEVENT
END:VCALENDAR