BEGIN:VCALENDAR
VERSION:2.0
PRODID:-//Tennessee Wesleyan University - ECPv6.15.17.1//NONSGML v1.0//EN
CALSCALE:GREGORIAN
METHOD:PUBLISH
X-ORIGINAL-URL:https://www.tnwesleyan.edu
X-WR-CALDESC:Events for Tennessee Wesleyan University
REFRESH-INTERVAL;VALUE=DURATION:PT1H
X-Robots-Tag:noindex
X-PUBLISHED-TTL:PT1H
BEGIN:VTIMEZONE
TZID:UTC
BEGIN:STANDARD
TZOFFSETFROM:+0000
TZOFFSETTO:+0000
TZNAME:UTC
DTSTART:20230101T000000
END:STANDARD
END:VTIMEZONE
BEGIN:VEVENT
DTSTART;TZID=UTC:20240327T160000
DTEND;TZID=UTC:20240327T160000
DTSTAMP:20260419T105447
CREATED:20240223T145656Z
LAST-MODIFIED:20240326T202427Z
UID:8880-1711555200-1711555200@www.tnwesleyan.edu
SUMMARY:(Women's Lacrosse) Eastern Oregon vs. Tennessee Wesleyan
DESCRIPTION:Women’s Lacrosse: (Women’s Lacrosse) Eastern Oregon vs. Tennessee Wesleyan\, Athens\, Tenn.
URL:https://www.tnwesleyan.edu/event/womens-lacrosse-eastern-oregon-vs-tennessee-wesleyan/
CATEGORIES:Women's Lacrosse
END:VEVENT
BEGIN:VEVENT
DTSTART;TZID=UTC:20240327T180000
DTEND;TZID=UTC:20240327T180000
DTSTAMP:20260419T105447
CREATED:20240223T144705Z
LAST-MODIFIED:20240326T202521Z
UID:8806-1711562400-1711562400@www.tnwesleyan.edu
SUMMARY:(Men's Tennis) Union (KY) vs. Tennessee Wesleyan
DESCRIPTION:Men’s Tennis: (Men’s Tennis) Union (KY) vs. Tennessee Wesleyan
URL:https://www.tnwesleyan.edu/event/mens-tennis-union-ky-vs-tennessee-wesleyan/
CATEGORIES:Men's Tennis
END:VEVENT
BEGIN:VEVENT
DTSTART;TZID=UTC:20240327T180000
DTEND;TZID=UTC:20240327T180000
DTSTAMP:20260419T105447
CREATED:20240223T145949Z
LAST-MODIFIED:20240326T203754Z
UID:8962-1711562400-1711562400@www.tnwesleyan.edu
SUMMARY:(Women's Tennis) Union (KY) vs. Tennessee Wesleyan
DESCRIPTION:Women’s Tennis: (Women’s Tennis) Union (KY) vs. Tennessee Wesleyan
URL:https://www.tnwesleyan.edu/event/womens-tennis-union-ky-vs-tennessee-wesleyan/
CATEGORIES:Women's Tennis
END:VEVENT
END:VCALENDAR