BEGIN:VCALENDAR
VERSION:2.0
PRODID:-//Tennessee Wesleyan University - ECPv6.15.17.1//NONSGML v1.0//EN
CALSCALE:GREGORIAN
METHOD:PUBLISH
X-WR-CALNAME:Tennessee Wesleyan University
X-ORIGINAL-URL:https://www.tnwesleyan.edu
X-WR-CALDESC:Events for Tennessee Wesleyan University
REFRESH-INTERVAL;VALUE=DURATION:PT1H
X-Robots-Tag:noindex
X-PUBLISHED-TTL:PT1H
BEGIN:VTIMEZONE
TZID:UTC
BEGIN:STANDARD
TZOFFSETFROM:+0000
TZOFFSETTO:+0000
TZNAME:UTC
DTSTART:20230101T000000
END:STANDARD
END:VTIMEZONE
BEGIN:VEVENT
DTSTART;VALUE=DATE:20240313
DTEND;VALUE=DATE:20240314
DTSTAMP:20260419T103438
CREATED:20240223T144705Z
LAST-MODIFIED:20240312T184822Z
UID:8804-1710288000-1710374399@www.tnwesleyan.edu
SUMMARY:(Men's Tennis) Drury University vs. Tennessee Wesleyan
DESCRIPTION:Men’s Tennis: (Men’s Tennis) Drury University vs. Tennessee Wesleyan\, Match Being Played at Champions Club
URL:https://www.tnwesleyan.edu/event/mens-tennis-drury-university-vs-tennessee-wesleyan/
LOCATION:Chattanooga\, Tenn.
CATEGORIES:Men's Tennis
END:VEVENT
BEGIN:VEVENT
DTSTART;TZID=UTC:20240313T170000
DTEND;TZID=UTC:20240313T170000
DTSTAMP:20260419T103438
CREATED:20240223T142416Z
LAST-MODIFIED:20240313T150540Z
UID:8697-1710349200-1710349200@www.tnwesleyan.edu
SUMMARY:(Baseball) Indiana Tech vs. Tennessee Wesleyan
DESCRIPTION:Baseball: (Baseball) Indiana Tech vs. Tennessee Wesleyan\, 1st inning
URL:https://www.tnwesleyan.edu/event/baseball-indiana-tech-vs-tennessee-wesleyan-2/
CATEGORIES:Men's Baseball
END:VEVENT
BEGIN:VEVENT
DTSTART;TZID=UTC:20240313T170000
DTEND;TZID=UTC:20240313T170000
DTSTAMP:20260419T103438
CREATED:20240223T145923Z
LAST-MODIFIED:20240312T184813Z
UID:8924-1710349200-1710349200@www.tnwesleyan.edu
SUMMARY:(Softball) Union (KY) vs. Tennessee Wesleyan
DESCRIPTION:Softball: (Softball) Union (KY) vs. Tennessee Wesleyan
URL:https://www.tnwesleyan.edu/event/softball-union-ky-vs-tennessee-wesleyan/
CATEGORIES:Softball
END:VEVENT
BEGIN:VEVENT
DTSTART;TZID=UTC:20240313T170000
DTEND;TZID=UTC:20240313T170000
DTSTAMP:20260419T103438
CREATED:20240223T145949Z
LAST-MODIFIED:20240312T184825Z
UID:8959-1710349200-1710349200@www.tnwesleyan.edu
SUMMARY:(Women's Tennis) Drury University vs. Tennessee Wesleyan
DESCRIPTION:Women’s Tennis: (Women’s Tennis) Drury University vs. Tennessee Wesleyan\, Match Being Played at Champions Club
URL:https://www.tnwesleyan.edu/event/womens-tennis-drury-university-vs-tennessee-wesleyan/
LOCATION:Chattanooga\, Tenn.
CATEGORIES:Women's Tennis
END:VEVENT
BEGIN:VEVENT
DTSTART;TZID=UTC:20240313T190000
DTEND;TZID=UTC:20240313T190000
DTSTAMP:20260419T103438
CREATED:20240223T145924Z
LAST-MODIFIED:20240313T184737Z
UID:8925-1710356400-1710356400@www.tnwesleyan.edu
SUMMARY:(Softball) Union (KY) vs. Tennessee Wesleyan
DESCRIPTION:Softball: (Softball) Union (KY) vs. Tennessee Wesleyan
URL:https://www.tnwesleyan.edu/event/softball-union-ky-vs-tennessee-wesleyan-2/
CATEGORIES:Softball
END:VEVENT
END:VCALENDAR