BEGIN:VCALENDAR
VERSION:2.0
PRODID:-//Tennessee Wesleyan University - ECPv6.15.17.1//NONSGML v1.0//EN
CALSCALE:GREGORIAN
METHOD:PUBLISH
X-ORIGINAL-URL:https://www.tnwesleyan.edu
X-WR-CALDESC:Events for Tennessee Wesleyan University
REFRESH-INTERVAL;VALUE=DURATION:PT1H
X-Robots-Tag:noindex
X-PUBLISHED-TTL:PT1H
BEGIN:VTIMEZONE
TZID:UTC
BEGIN:STANDARD
TZOFFSETFROM:+0000
TZOFFSETTO:+0000
TZNAME:UTC
DTSTART:20230101T000000
END:STANDARD
END:VTIMEZONE
BEGIN:VEVENT
DTSTART;TZID=UTC:20240306T170000
DTEND;TZID=UTC:20240306T170000
DTSTAMP:20260419T122005
CREATED:20240223T145918Z
LAST-MODIFIED:20240305T183305Z
UID:8910-1709744400-1709744400@www.tnwesleyan.edu
SUMMARY:(Softball) Tennessee Wesleyan at Kentucky Christian
DESCRIPTION:Softball: (Softball) Tennessee Wesleyan at Kentucky Christian\, Postponed
URL:https://www.tnwesleyan.edu/event/softball-tennessee-wesleyan-at-kentucky-christian/
CATEGORIES:Softball
END:VEVENT
BEGIN:VEVENT
DTSTART;TZID=UTC:20240306T190000
DTEND;TZID=UTC:20240306T190000
DTSTAMP:20260419T122005
CREATED:20240223T145918Z
LAST-MODIFIED:20240306T183232Z
UID:8911-1709751600-1709751600@www.tnwesleyan.edu
SUMMARY:(Softball) Tennessee Wesleyan at Kentucky Christian
DESCRIPTION:Softball: (Softball) Tennessee Wesleyan at Kentucky Christian\, Postponed
URL:https://www.tnwesleyan.edu/event/softball-tennessee-wesleyan-at-kentucky-christian-2/
CATEGORIES:Softball
END:VEVENT
BEGIN:VEVENT
DTSTART;TZID=UTC:20240306T220000
DTEND;TZID=UTC:20240306T220000
DTSTAMP:20260419T122005
CREATED:20240223T145656Z
LAST-MODIFIED:20240306T181800Z
UID:8875-1709762400-1709762400@www.tnwesleyan.edu
SUMMARY:(Women's Lacrosse) Tennessee Wesleyan at Georgetown
DESCRIPTION:Women’s Lacrosse: (Women’s Lacrosse) Tennessee Wesleyan at Georgetown\, Toyota Stadium – Georgetown\, KY
URL:https://www.tnwesleyan.edu/event/womens-lacrosse-tennessee-wesleyan-at-georgetown/
CATEGORIES:Women's Lacrosse
END:VEVENT
END:VCALENDAR